BEGIN:VCALENDAR
VERSION:2.0
PRODID:-//ChamberMaster//Event Calendar 2.0//EN
METHOD:PUBLISH
X-PUBLISHED-TTL:P3D
REFRESH-INTERVAL:P3D
CALSCALE:GREGORIAN
BEGIN:VEVENT
DTSTART:20220413T120000Z
DTEND:20220413T140000Z
X-MICROSOFT-CDO-ALLDAYEVENT:FALSE
SUMMARY:Wednesday Workshops - Six Weeks of Learning
DESCRIPTION:This six-week series will feature a variety of topics including: \n\n\n	\n	How to best utilize social media. \n	\n	\n	How to interact with the traditional media.\n	\n	\n	How to create meaningful videos from your phone.\n	\n	\n	How to ramp up your SEO.\n	\n	\n	How to use AdWords.\n	\n	\n	The latest and best HR practices.\n	\n	\n	The finance laws that are ever-evolving and impacting your business. \n	\n\n\n \n\nBegins January 12 (typically the second Wednesday of each month)\n\nClasses are 8 am - 10 am at the Chamber\n\n \n\n \n\n$15 members per class\n\n$25 prospective members per class\n\n*space is limited\n\n \n\nLight refreshments will be available.\n\n \n\nTopics:\n\nSocial Media (January 12)\n\n-Participants will leave with a month's worth of social media post ideas. \n\n-Participants will leave understanding what makes good content and what they should avoid.\n\n-The class will focus on Instagram and Facebook. \n\n-The class will cover hashtags- what they are and how to decide on which ones to use.\n\n \n\nAdWords and SEO (February 9)\n\n-Participants will leave understanding simple ways to boost their SEO and use AdWords.\n\n-The class will cover the basics of what both SEO and AdWords are and how anyone\, at any level\, can engage the technology.\n\n \n\nBasics of Videography from your phone (March 16)\n\n-This class will dive into how to produce simple but impactful videos from a cell phone. \n\n-The class will dissect popular video techniques and learn how to recreate them within minutes.\n\n-Participants will need a smartphone and access to their social media accounts.\n\n-Participants will also learn how to use video to better tell their stories and support their public relations efforts. \n\n \n\nHuman Resources (April 13)\n\n-This class will focus on hiring and retaining employees along with employee management. \n\n-Participants will also learn about remote working.\n\n \n\nTraditional Media (May 11)\n\n-In this class participants will learn how to best draft a press release\; what are the basic\, essential elements to include\; and to whom the media release should be sent. \n\n-The participants will leave with a custom template to use in the future for any media pitching they want to do along with a list of media contacts that are best suited to receive press releases. \n\n-Participants will learn what makes a great pitch and how to speak on camera.\n\n \n\nFinance (June 8)\n\n-New tax laws\n\n-Best practices for your business's financial health
X-ALT-DESC;FMTTYPE=text/html:<p dir="ltr" style="line-height: 1.38\; margin-top: 0pt\; margin-bottom: 0pt\;"><span id="docs-internal-guid-5f2f1aca-7fff-6185-0d37-845260ba6d08"><span style="font-size: 11pt\; font-family: Arial\; color: rgb(0\, 0\, 0)\; background-color: transparent\; font-variant-numeric: normal\; font-variant-east-asian: normal\; vertical-align: baseline\; white-space: pre-wrap\;">This six-week series will feature a variety of topics including:&nbsp\;</span></span></p>\n\n<ul style="margin-top:0\;margin-bottom:0\;padding-inline-start:48px\;">\n	<li aria-level="1" dir="ltr" style="list-style-type: disc\; font-size: 11pt\; font-family: Arial\; color: rgb(0\, 0\, 0)\; background-color: transparent\; font-variant-numeric: normal\; font-variant-east-asian: normal\; vertical-align: baseline\; white-space: pre\;">\n	<p dir="ltr" role="presentation" style="line-height:1.38\;margin-top:11pt\;margin-bottom:0pt\;"><span id="docs-internal-guid-5f2f1aca-7fff-6185-0d37-845260ba6d08"><span style="font-size: 11pt\; background-color: transparent\; font-variant-numeric: normal\; font-variant-east-asian: normal\; vertical-align: baseline\; white-space: pre-wrap\;">How to best utilize social media.&nbsp\;</span></span></p>\n	</li>\n	<li aria-level="1" dir="ltr" style="list-style-type: disc\; font-size: 11pt\; font-family: Arial\; color: rgb(0\, 0\, 0)\; background-color: transparent\; font-variant-numeric: normal\; font-variant-east-asian: normal\; vertical-align: baseline\; white-space: pre\;">\n	<p dir="ltr" role="presentation" style="line-height:1.38\;margin-top:0pt\;margin-bottom:0pt\;"><span id="docs-internal-guid-5f2f1aca-7fff-6185-0d37-845260ba6d08"><span style="font-size: 11pt\; background-color: transparent\; font-variant-numeric: normal\; font-variant-east-asian: normal\; vertical-align: baseline\; white-space: pre-wrap\;">How to interact with the traditional media.</span></span></p>\n	</li>\n	<li aria-level="1" dir="ltr" style="list-style-type: disc\; font-size: 11pt\; font-family: Arial\; color: rgb(0\, 0\, 0)\; background-color: transparent\; font-variant-numeric: normal\; font-variant-east-asian: normal\; vertical-align: baseline\; white-space: pre\;">\n	<p dir="ltr" role="presentation" style="line-height:1.38\;margin-top:0pt\;margin-bottom:0pt\;"><span id="docs-internal-guid-5f2f1aca-7fff-6185-0d37-845260ba6d08"><span style="font-size: 11pt\; background-color: transparent\; font-variant-numeric: normal\; font-variant-east-asian: normal\; vertical-align: baseline\; white-space: pre-wrap\;">How to create meaningful videos from your phone.</span></span></p>\n	</li>\n	<li aria-level="1" dir="ltr" style="list-style-type: disc\; font-size: 11pt\; font-family: Arial\; color: rgb(0\, 0\, 0)\; background-color: transparent\; font-variant-numeric: normal\; font-variant-east-asian: normal\; vertical-align: baseline\; white-space: pre\;">\n	<p dir="ltr" role="presentation" style="line-height:1.38\;margin-top:0pt\;margin-bottom:0pt\;"><span id="docs-internal-guid-5f2f1aca-7fff-6185-0d37-845260ba6d08"><span style="font-size: 11pt\; background-color: transparent\; font-variant-numeric: normal\; font-variant-east-asian: normal\; vertical-align: baseline\; white-space: pre-wrap\;">How to ramp up your SEO.</span></span></p>\n	</li>\n	<li aria-level="1" dir="ltr" style="list-style-type: disc\; font-size: 11pt\; font-family: Arial\; color: rgb(0\, 0\, 0)\; background-color: transparent\; font-variant-numeric: normal\; font-variant-east-asian: normal\; vertical-align: baseline\; white-space: pre\;">\n	<p dir="ltr" role="presentation" style="line-height:1.38\;margin-top:0pt\;margin-bottom:0pt\;"><span id="docs-internal-guid-5f2f1aca-7fff-6185-0d37-845260ba6d08"><span style="font-size: 11pt\; background-color: transparent\; font-variant-numeric: normal\; font-variant-east-asian: normal\; vertical-align: baseline\; white-space: pre-wrap\;">How to use AdWords.</span></span></p>\n	</li>\n	<li aria-level="1" dir="ltr" style="list-style-type: disc\; font-size: 11pt\; font-family: Arial\; color: rgb(0\, 0\, 0)\; background-color: transparent\; font-variant-numeric: normal\; font-variant-east-asian: normal\; vertical-align: baseline\; white-space: pre\;">\n	<p dir="ltr" role="presentation" style="line-height:1.38\;margin-top:0pt\;margin-bottom:0pt\;"><span id="docs-internal-guid-5f2f1aca-7fff-6185-0d37-845260ba6d08"><span style="font-size: 11pt\; background-color: transparent\; font-variant-numeric: normal\; font-variant-east-asian: normal\; vertical-align: baseline\; white-space: pre-wrap\;">The latest and best HR practices.</span></span></p>\n	</li>\n	<li aria-level="1" dir="ltr" style="list-style-type: disc\; font-size: 11pt\; font-family: Arial\; color: rgb(0\, 0\, 0)\; background-color: transparent\; font-variant-numeric: normal\; font-variant-east-asian: normal\; vertical-align: baseline\; white-space: pre\;">\n	<p dir="ltr" role="presentation" style="line-height:1.38\;margin-top:0pt\;margin-bottom:11pt\;"><span id="docs-internal-guid-5f2f1aca-7fff-6185-0d37-845260ba6d08"><span style="font-size: 11pt\; background-color: transparent\; font-variant-numeric: normal\; font-variant-east-asian: normal\; vertical-align: baseline\; white-space: pre-wrap\;">The finance laws that are ever-evolving and impacting your business.&nbsp\;</span></span></p>\n	</li>\n</ul>\n\n<p dir="ltr" style="line-height: 1.38\; margin-top: 0pt\; margin-bottom: 0pt\;"><span id="docs-internal-guid-5f2f1aca-7fff-6185-0d37-845260ba6d08">&nbsp\;</span></p>\n\n<p dir="ltr" style="line-height: 1.38\; margin-top: 0pt\; margin-bottom: 0pt\;"><span id="docs-internal-guid-5f2f1aca-7fff-6185-0d37-845260ba6d08"><span style="font-size: 11pt\; font-family: Arial\; color: rgb(0\, 0\, 0)\; background-color: transparent\; font-variant-numeric: normal\; font-variant-east-asian: normal\; vertical-align: baseline\; white-space: pre-wrap\;">Begins January 12 (typically the second Wednesday of each month)</span></span></p>\n\n<p dir="ltr" style="line-height: 1.38\; margin-top: 0pt\; margin-bottom: 0pt\;"><span id="docs-internal-guid-5f2f1aca-7fff-6185-0d37-845260ba6d08"><span style="font-size: 11pt\; font-family: Arial\; color: rgb(0\, 0\, 0)\; background-color: transparent\; font-variant-numeric: normal\; font-variant-east-asian: normal\; vertical-align: baseline\; white-space: pre-wrap\;">Classes are 8 am - 10 am at the Chamber</span></span></p>\n\n<p dir="ltr" style="line-height: 1.38\; margin-top: 0pt\; margin-bottom: 0pt\;"><span id="docs-internal-guid-5f2f1aca-7fff-6185-0d37-845260ba6d08">&nbsp\;</span></p>\n\n<p dir="ltr" style="line-height: 1.38\; margin-top: 0pt\; margin-bottom: 0pt\;">&nbsp\;</p>\n\n<p dir="ltr" style="line-height: 1.38\; margin-top: 0pt\; margin-bottom: 0pt\;"><span id="docs-internal-guid-5f2f1aca-7fff-6185-0d37-845260ba6d08"><span style="font-size: 11pt\; font-family: Arial\; color: rgb(0\, 0\, 0)\; background-color: transparent\; font-variant-numeric: normal\; font-variant-east-asian: normal\; vertical-align: baseline\; white-space: pre-wrap\;">$15 members per class</span></span></p>\n\n<p dir="ltr" style="line-height: 1.38\; margin-top: 0pt\; margin-bottom: 0pt\;"><span id="docs-internal-guid-5f2f1aca-7fff-6185-0d37-845260ba6d08"><span style="font-size: 11pt\; font-family: Arial\; color: rgb(0\, 0\, 0)\; background-color: transparent\; font-variant-numeric: normal\; font-variant-east-asian: normal\; vertical-align: baseline\; white-space: pre-wrap\;">$25 prospective members per class</span></span></p>\n\n<p dir="ltr" style="line-height: 1.38\; margin-top: 0pt\; margin-bottom: 0pt\;"><span id="docs-internal-guid-5f2f1aca-7fff-6185-0d37-845260ba6d08"><span style="font-size: 11pt\; font-family: Arial\; color: rgb(0\, 0\, 0)\; background-color: transparent\; font-variant-numeric: normal\; font-variant-east-asian: normal\; vertical-align: baseline\; white-space: pre-wrap\;">*space is limited</span></span></p>\n\n<p dir="ltr" style="line-height: 1.38\; margin-top: 0pt\; margin-bottom: 0pt\;"><span id="docs-internal-guid-5f2f1aca-7fff-6185-0d37-845260ba6d08">&nbsp\;</span></p>\n\n<p dir="ltr" style="line-height: 1.38\; margin-top: 0pt\; margin-bottom: 0pt\;"><span id="docs-internal-guid-5f2f1aca-7fff-6185-0d37-845260ba6d08"><span style="font-size: 11pt\; font-family: Arial\; color: rgb(0\, 0\, 0)\; background-color: transparent\; font-variant-numeric: normal\; font-variant-east-asian: normal\; vertical-align: baseline\; white-space: pre-wrap\;">Light refreshments will be available.</span></span></p>\n\n<p dir="ltr" style="line-height: 1.38\; margin-top: 0pt\; margin-bottom: 0pt\;"><span id="docs-internal-guid-5f2f1aca-7fff-6185-0d37-845260ba6d08">&nbsp\;</span></p>\n\n<p dir="ltr" style="line-height: 1.38\; margin-top: 0pt\; margin-bottom: 0pt\;"><span id="docs-internal-guid-5f2f1aca-7fff-6185-0d37-845260ba6d08"><span style="font-size: 11pt\; font-family: Arial\; color: rgb(0\, 0\, 0)\; background-color: transparent\; font-variant-numeric: normal\; font-variant-east-asian: normal\; vertical-align: baseline\; white-space: pre-wrap\;">Topics:</span></span></p>\n\n<p dir="ltr" style="line-height: 1.38\; margin-top: 0pt\; margin-bottom: 0pt\;"><span id="docs-internal-guid-5f2f1aca-7fff-6185-0d37-845260ba6d08"><span style="font-size: 11pt\; font-family: Arial\; color: rgb(0\, 0\, 0)\; background-color: transparent\; font-weight: 700\; font-variant-numeric: normal\; font-variant-east-asian: normal\; text-decoration-line: underline\; text-decoration-skip-ink: none\; vertical-align: baseline\; white-space: pre-wrap\;">Social Media (January 12)</span></span></p>\n\n<p dir="ltr" style="line-height: 1.38\; margin-top: 0pt\; margin-bottom: 0pt\;"><span id="docs-internal-guid-5f2f1aca-7fff-6185-0d37-845260ba6d08"><span style="font-size: 11pt\; font-family: Arial\; color: rgb(0\, 0\, 0)\; background-color: transparent\; font-variant-numeric: normal\; font-variant-east-asian: normal\; vertical-align: baseline\; white-space: pre-wrap\;">-Participants will leave with a month&#39\;s worth of social media post ideas.&nbsp\;</span></span></p>\n\n<p dir="ltr" style="line-height: 1.38\; margin-top: 0pt\; margin-bottom: 0pt\;"><span id="docs-internal-guid-5f2f1aca-7fff-6185-0d37-845260ba6d08"><span style="font-size: 11pt\; font-family: Arial\; color: rgb(0\, 0\, 0)\; background-color: transparent\; font-variant-numeric: normal\; font-variant-east-asian: normal\; vertical-align: baseline\; white-space: pre-wrap\;">-Participants will leave understanding what makes good content and what they should avoid.</span></span></p>\n\n<p dir="ltr" style="line-height: 1.38\; margin-top: 0pt\; margin-bottom: 0pt\;"><span id="docs-internal-guid-5f2f1aca-7fff-6185-0d37-845260ba6d08"><span style="font-size: 11pt\; font-family: Arial\; color: rgb(0\, 0\, 0)\; background-color: transparent\; font-variant-numeric: normal\; font-variant-east-asian: normal\; vertical-align: baseline\; white-space: pre-wrap\;">-The class will focus on Instagram and Facebook.&nbsp\;</span></span></p>\n\n<p dir="ltr" style="line-height: 1.38\; margin-top: 0pt\; margin-bottom: 0pt\;"><span id="docs-internal-guid-5f2f1aca-7fff-6185-0d37-845260ba6d08"><span style="font-size: 11pt\; font-family: Arial\; color: rgb(0\, 0\, 0)\; background-color: transparent\; font-variant-numeric: normal\; font-variant-east-asian: normal\; vertical-align: baseline\; white-space: pre-wrap\;">-The class will cover hashtags- what they are and how to decide on which ones to use.</span></span></p>\n\n<p dir="ltr" style="line-height: 1.38\; margin-top: 0pt\; margin-bottom: 0pt\;"><span id="docs-internal-guid-5f2f1aca-7fff-6185-0d37-845260ba6d08">&nbsp\;</span></p>\n\n<p dir="ltr" style="line-height: 1.38\; margin-top: 0pt\; margin-bottom: 0pt\;"><span id="docs-internal-guid-5f2f1aca-7fff-6185-0d37-845260ba6d08"><span style="font-size: 11pt\; font-family: Arial\; color: rgb(0\, 0\, 0)\; background-color: transparent\; font-weight: 700\; font-variant-numeric: normal\; font-variant-east-asian: normal\; text-decoration-line: underline\; text-decoration-skip-ink: none\; vertical-align: baseline\; white-space: pre-wrap\;">AdWords and SEO (February 9)</span></span></p>\n\n<p dir="ltr" style="line-height: 1.38\; margin-top: 0pt\; margin-bottom: 0pt\;"><span id="docs-internal-guid-5f2f1aca-7fff-6185-0d37-845260ba6d08"><span style="font-size: 11pt\; font-family: Arial\; color: rgb(0\, 0\, 0)\; background-color: transparent\; font-variant-numeric: normal\; font-variant-east-asian: normal\; vertical-align: baseline\; white-space: pre-wrap\;">-Participants will leave understanding simple ways to boost their SEO and use AdWords.</span></span></p>\n\n<p dir="ltr" style="line-height: 1.38\; margin-top: 0pt\; margin-bottom: 0pt\;"><span id="docs-internal-guid-5f2f1aca-7fff-6185-0d37-845260ba6d08"><span style="font-size: 11pt\; font-family: Arial\; color: rgb(0\, 0\, 0)\; background-color: transparent\; font-variant-numeric: normal\; font-variant-east-asian: normal\; vertical-align: baseline\; white-space: pre-wrap\;">-The class will cover the basics of what both SEO and AdWords are and how anyone\, at any level\, can engage the technology.</span></span></p>\n\n<p dir="ltr" style="line-height: 1.38\; margin-top: 0pt\; margin-bottom: 0pt\;"><span id="docs-internal-guid-5f2f1aca-7fff-6185-0d37-845260ba6d08">&nbsp\;</span></p>\n\n<p dir="ltr" style="line-height: 1.38\; margin-top: 0pt\; margin-bottom: 0pt\;"><span id="docs-internal-guid-5f2f1aca-7fff-6185-0d37-845260ba6d08"><span style="font-size: 11pt\; font-family: Arial\; color: rgb(0\, 0\, 0)\; background-color: transparent\; font-weight: 700\; font-variant-numeric: normal\; font-variant-east-asian: normal\; text-decoration-line: underline\; text-decoration-skip-ink: none\; vertical-align: baseline\; white-space: pre-wrap\;">Basics of Videography from your phone (March 16)</span></span></p>\n\n<p dir="ltr" style="line-height: 1.38\; margin-top: 0pt\; margin-bottom: 0pt\;"><span id="docs-internal-guid-5f2f1aca-7fff-6185-0d37-845260ba6d08"><span style="font-size: 11pt\; font-family: Arial\; color: rgb(0\, 0\, 0)\; background-color: transparent\; font-variant-numeric: normal\; font-variant-east-asian: normal\; vertical-align: baseline\; white-space: pre-wrap\;">-This class will dive into how to produce simple but impactful videos from a cell phone.&nbsp\;</span></span></p>\n\n<p dir="ltr" style="line-height: 1.38\; margin-top: 0pt\; margin-bottom: 0pt\;"><span id="docs-internal-guid-5f2f1aca-7fff-6185-0d37-845260ba6d08"><span style="font-size: 11pt\; font-family: Arial\; color: rgb(0\, 0\, 0)\; background-color: transparent\; font-variant-numeric: normal\; font-variant-east-asian: normal\; vertical-align: baseline\; white-space: pre-wrap\;">-The class will dissect popular video techniques and learn how to recreate them within minutes.</span></span></p>\n\n<p dir="ltr" style="line-height: 1.38\; margin-top: 0pt\; margin-bottom: 0pt\;"><span id="docs-internal-guid-5f2f1aca-7fff-6185-0d37-845260ba6d08"><span style="font-size: 11pt\; font-family: Arial\; color: rgb(0\, 0\, 0)\; background-color: transparent\; font-variant-numeric: normal\; font-variant-east-asian: normal\; vertical-align: baseline\; white-space: pre-wrap\;">-Participants will need a smartphone and access to their social media accounts.</span></span></p>\n\n<p dir="ltr" style="line-height: 1.38\; margin-top: 0pt\; margin-bottom: 0pt\;"><span id="docs-internal-guid-5f2f1aca-7fff-6185-0d37-845260ba6d08"><span style="font-size: 11pt\; font-family: Arial\; color: rgb(0\, 0\, 0)\; background-color: transparent\; font-variant-numeric: normal\; font-variant-east-asian: normal\; vertical-align: baseline\; white-space: pre-wrap\;">-Participants will also learn how to use video to better tell their stories and support their public relations efforts.&nbsp\;</span></span></p>\n\n<p dir="ltr" style="line-height: 1.38\; margin-top: 0pt\; margin-bottom: 0pt\;"><span id="docs-internal-guid-5f2f1aca-7fff-6185-0d37-845260ba6d08">&nbsp\;</span></p>\n\n<p dir="ltr" style="line-height: 1.38\; margin-top: 0pt\; margin-bottom: 0pt\;"><span id="docs-internal-guid-5f2f1aca-7fff-6185-0d37-845260ba6d08"><span style="font-size: 11pt\; font-family: Arial\; color: rgb(0\, 0\, 0)\; background-color: transparent\; font-weight: 700\; font-variant-numeric: normal\; font-variant-east-asian: normal\; text-decoration-line: underline\; text-decoration-skip-ink: none\; vertical-align: baseline\; white-space: pre-wrap\;">Human Resources (April 13)</span></span></p>\n\n<p dir="ltr" style="line-height: 1.38\; margin-top: 0pt\; margin-bottom: 0pt\;"><span id="docs-internal-guid-5f2f1aca-7fff-6185-0d37-845260ba6d08"><span style="font-size: 11pt\; font-family: Arial\; color: rgb(0\, 0\, 0)\; background-color: transparent\; font-variant-numeric: normal\; font-variant-east-asian: normal\; vertical-align: baseline\; white-space: pre-wrap\;">-This class will focus on hiring and retaining employees along with employee management.&nbsp\;</span></span></p>\n\n<p dir="ltr" style="line-height: 1.38\; margin-top: 0pt\; margin-bottom: 0pt\;"><span id="docs-internal-guid-5f2f1aca-7fff-6185-0d37-845260ba6d08"><span style="font-size: 11pt\; font-family: Arial\; color: rgb(0\, 0\, 0)\; background-color: transparent\; font-variant-numeric: normal\; font-variant-east-asian: normal\; vertical-align: baseline\; white-space: pre-wrap\;">-Participants will also learn about remote working.</span></span></p>\n\n<p dir="ltr" style="line-height: 1.38\; margin-top: 0pt\; margin-bottom: 0pt\;"><span id="docs-internal-guid-5f2f1aca-7fff-6185-0d37-845260ba6d08">&nbsp\;</span></p>\n\n<p dir="ltr" style="line-height: 1.38\; margin-top: 0pt\; margin-bottom: 0pt\;"><span id="docs-internal-guid-5f2f1aca-7fff-6185-0d37-845260ba6d08"><span style="font-size: 11pt\; font-family: Arial\; color: rgb(0\, 0\, 0)\; background-color: transparent\; font-weight: 700\; font-variant-numeric: normal\; font-variant-east-asian: normal\; text-decoration-line: underline\; text-decoration-skip-ink: none\; vertical-align: baseline\; white-space: pre-wrap\;">Traditional Media (May 11)</span></span></p>\n\n<p dir="ltr" style="line-height: 1.38\; margin-top: 0pt\; margin-bottom: 0pt\;"><span id="docs-internal-guid-5f2f1aca-7fff-6185-0d37-845260ba6d08"><span style="font-size: 11pt\; font-family: Arial\; color: rgb(0\, 0\, 0)\; background-color: transparent\; font-variant-numeric: normal\; font-variant-east-asian: normal\; vertical-align: baseline\; white-space: pre-wrap\;">-In this class participants will learn how to best draft a press release\; what are the basic\, essential elements to include\; and to whom the media release should be sent.&nbsp\;</span></span></p>\n\n<p dir="ltr" style="line-height: 1.38\; margin-top: 0pt\; margin-bottom: 0pt\;"><span id="docs-internal-guid-5f2f1aca-7fff-6185-0d37-845260ba6d08"><span style="font-size: 11pt\; font-family: Arial\; color: rgb(0\, 0\, 0)\; background-color: transparent\; font-variant-numeric: normal\; font-variant-east-asian: normal\; vertical-align: baseline\; white-space: pre-wrap\;">-The participants will leave with a custom template to use in the future for any media pitching they want to do along with a list of media contacts that are best suited to receive press releases.&nbsp\;</span></span></p>\n\n<p dir="ltr" style="line-height: 1.38\; margin-top: 0pt\; margin-bottom: 0pt\;"><span id="docs-internal-guid-5f2f1aca-7fff-6185-0d37-845260ba6d08"><span style="font-size: 11pt\; font-family: Arial\; color: rgb(0\, 0\, 0)\; background-color: transparent\; font-variant-numeric: normal\; font-variant-east-asian: normal\; vertical-align: baseline\; white-space: pre-wrap\;">-Participants will learn what makes a great pitch and how to speak on camera.</span></span></p>\n\n<p dir="ltr" style="line-height: 1.38\; margin-top: 0pt\; margin-bottom: 0pt\;"><span id="docs-internal-guid-5f2f1aca-7fff-6185-0d37-845260ba6d08">&nbsp\;</span></p>\n\n<p dir="ltr" style="line-height: 1.38\; margin-top: 0pt\; margin-bottom: 0pt\;"><span id="docs-internal-guid-5f2f1aca-7fff-6185-0d37-845260ba6d08"><span style="font-size: 11pt\; font-family: Arial\; color: rgb(0\, 0\, 0)\; background-color: transparent\; font-weight: 700\; font-variant-numeric: normal\; font-variant-east-asian: normal\; text-decoration-line: underline\; text-decoration-skip-ink: none\; vertical-align: baseline\; white-space: pre-wrap\;">Finance (June 8)</span></span></p>\n\n<p dir="ltr" style="line-height: 1.38\; margin-top: 0pt\; margin-bottom: 0pt\;"><span id="docs-internal-guid-5f2f1aca-7fff-6185-0d37-845260ba6d08"><span style="font-size: 11pt\; font-family: Arial\; color: rgb(0\, 0\, 0)\; background-color: transparent\; font-variant-numeric: normal\; font-variant-east-asian: normal\; vertical-align: baseline\; white-space: pre-wrap\;">-New tax laws</span></span></p>\n\n<p dir="ltr" style="line-height: 1.38\; margin-top: 0pt\; margin-bottom: 0pt\;"><span id="docs-internal-guid-5f2f1aca-7fff-6185-0d37-845260ba6d08"><span style="font-size: 11pt\; font-family: Arial\; color: rgb(0\, 0\, 0)\; background-color: transparent\; font-variant-numeric: normal\; font-variant-east-asian: normal\; vertical-align: baseline\; white-space: pre-wrap\;">-Best practices for your business&rsquo\;s financial health</span></span></p>\n\n<div>&nbsp\;</div>\n
LOCATION:Greater Summerville/Dorchester County Chamber of Commerce
UID:e.280.25148
SEQUENCE:3
DTSTAMP:20260422T063025Z
URL:https://business.greatersummerville.org/events/details/wednesday-workshops-six-weeks-of-learning-25148
END:VEVENT

END:VCALENDAR
