BEGIN:VCALENDAR
VERSION:2.0
PRODID:-//ChamberMaster//Event Calendar 2.0//EN
METHOD:PUBLISH
X-PUBLISHED-TTL:P3D
REFRESH-INTERVAL:P3D
CALSCALE:GREGORIAN
BEGIN:VEVENT
DTSTART:20260422T120000Z
DTEND:20260422T140000Z
X-MICROSOFT-CDO-ALLDAYEVENT:FALSE
SUMMARY:Wednesday Workshop: Public Speaking
DESCRIPTION:Wednesday Workshops \n\nTime: 8:00 AM   10:00 AM\n\nLocation: Chamber Boardroom\n\n \n\nPublic Speaking: Communicating with Confidence and Clarity\n\nPresented by Rebecca Collett\n\nClass Summary\n\nThis session equips participants with practical tools to strengthen public speaking and presentation skills. Topics include message clarity\, audience engagement\, confidence-building techniques\, and effective storytelling across professional settings from boardrooms to community events.\n\nSpeaker Bio\n\nRebecca Collett is the founder of Collett Media and an award-winning broadcast journalist. With extensive experience in public speaking\, media training\, and executive communications\, she works with leaders and organizations to refine their message\, elevate their presence\, and communicate with purpose.
X-ALT-DESC;FMTTYPE=text/html:<h3 dir="ltr" style="line-height:1.38\;margin-top:14pt\;margin-bottom:4pt\;"><span id="docs-internal-guid-58778247-7fff-66a2-b81a-e52202b79ea6"><span style="font-size: 13pt\; font-family: Arial\, sans-serif\; color: rgb(0\, 0\, 0)\; background-color: transparent\; font-weight: 700\; font-variant-numeric: normal\; font-variant-east-asian: normal\; font-variant-alternates: normal\; font-variant-position: normal\; font-variant-emoji: normal\; vertical-align: baseline\; white-space-collapse: preserve\;">Wednesday Workshops </span></span></h3>\n\n<p dir="ltr" style="line-height:1.38\;margin-top:12pt\;margin-bottom:12pt\;"><span id="docs-internal-guid-58778247-7fff-66a2-b81a-e52202b79ea6"><span style="font-size: 11pt\; font-family: Arial\, sans-serif\; color: rgb(0\, 0\, 0)\; background-color: transparent\; font-weight: 700\; font-variant-numeric: normal\; font-variant-east-asian: normal\; font-variant-alternates: normal\; font-variant-position: normal\; font-variant-emoji: normal\; vertical-align: baseline\; white-space-collapse: preserve\;">Time:</span><span style="font-size: 11pt\; font-family: Arial\, sans-serif\; color: rgb(0\, 0\, 0)\; background-color: transparent\; font-variant-numeric: normal\; font-variant-east-asian: normal\; font-variant-alternates: normal\; font-variant-position: normal\; font-variant-emoji: normal\; vertical-align: baseline\; white-space-collapse: preserve\;"> 8:00 AM &ndash\; 10:00 AM</span><br />\n<span style="font-size: 11pt\; font-family: Arial\, sans-serif\; color: rgb(0\, 0\, 0)\; background-color: transparent\; font-weight: 700\; font-variant-numeric: normal\; font-variant-east-asian: normal\; font-variant-alternates: normal\; font-variant-position: normal\; font-variant-emoji: normal\; vertical-align: baseline\; white-space-collapse: preserve\;">Location:</span><span style="font-size: 11pt\; font-family: Arial\, sans-serif\; color: rgb(0\, 0\, 0)\; background-color: transparent\; font-variant-numeric: normal\; font-variant-east-asian: normal\; font-variant-alternates: normal\; font-variant-position: normal\; font-variant-emoji: normal\; vertical-align: baseline\; white-space-collapse: preserve\;"> Chamber Boardroom</span></span></p>\n\n<h4 dir="ltr" style="line-height:1.38\;margin-top:12pt\;margin-bottom:2pt\;">&nbsp\;</h4>\n\n<h3 dir="ltr" style="line-height:1.38\;margin-top:14pt\;margin-bottom:4pt\;"><span id="docs-internal-guid-5cc45649-7fff-29ed-072d-b34800221767"><span style="font-size: 13pt\; font-family: Arial\, sans-serif\; color: rgb(0\, 0\, 0)\; background-color: transparent\; font-weight: 700\; font-variant-numeric: normal\; font-variant-east-asian: normal\; font-variant-alternates: normal\; font-variant-position: normal\; font-variant-emoji: normal\; vertical-align: baseline\; white-space-collapse: preserve\;">Public Speaking: Communicating with Confidence and Clarity</span></span></h3>\n\n<p dir="ltr" style="line-height:1.38\;margin-top:12pt\;margin-bottom:12pt\;"><span id="docs-internal-guid-5cc45649-7fff-29ed-072d-b34800221767"><span style="font-size: 11pt\; font-family: Arial\, sans-serif\; color: rgb(0\, 0\, 0)\; background-color: transparent\; font-weight: 700\; font-variant-numeric: normal\; font-variant-east-asian: normal\; font-variant-alternates: normal\; font-variant-position: normal\; font-variant-emoji: normal\; vertical-align: baseline\; white-space-collapse: preserve\;">Presented by Rebecca Collett</span></span></p>\n\n<p dir="ltr" style="line-height:1.38\;margin-top:12pt\;margin-bottom:12pt\;"><span id="docs-internal-guid-5cc45649-7fff-29ed-072d-b34800221767"><span style="font-size: 11pt\; font-family: Arial\, sans-serif\; color: rgb(0\, 0\, 0)\; background-color: transparent\; font-weight: 700\; font-variant-numeric: normal\; font-variant-east-asian: normal\; font-variant-alternates: normal\; font-variant-position: normal\; font-variant-emoji: normal\; vertical-align: baseline\; white-space-collapse: preserve\;">Class Summary</span><br />\n<span style="font-size: 11pt\; font-family: Arial\, sans-serif\; color: rgb(0\, 0\, 0)\; background-color: transparent\; font-variant-numeric: normal\; font-variant-east-asian: normal\; font-variant-alternates: normal\; font-variant-position: normal\; font-variant-emoji: normal\; vertical-align: baseline\; white-space-collapse: preserve\;">This session equips participants with practical tools to strengthen public speaking and presentation skills. Topics include message clarity\, audience engagement\, confidence-building techniques\, and effective storytelling across professional settings&mdash\;from boardrooms to community events.</span></span></p>\n\n<p dir="ltr" style="line-height:1.38\;margin-top:12pt\;margin-bottom:12pt\;"><span id="docs-internal-guid-5cc45649-7fff-29ed-072d-b34800221767"><span style="font-size: 11pt\; font-family: Arial\, sans-serif\; color: rgb(0\, 0\, 0)\; background-color: transparent\; font-weight: 700\; font-variant-numeric: normal\; font-variant-east-asian: normal\; font-variant-alternates: normal\; font-variant-position: normal\; font-variant-emoji: normal\; vertical-align: baseline\; white-space-collapse: preserve\;">Speaker Bio</span><br />\n<span style="font-size: 11pt\; font-family: Arial\, sans-serif\; color: rgb(0\, 0\, 0)\; background-color: transparent\; font-variant-numeric: normal\; font-variant-east-asian: normal\; font-variant-alternates: normal\; font-variant-position: normal\; font-variant-emoji: normal\; vertical-align: baseline\; white-space-collapse: preserve\;">Rebecca Collett is the founder of Collett Media and an award-winning broadcast journalist. With extensive experience in public speaking\, media training\, and executive communications\, she works with leaders and organizations to refine their message\, elevate their presence\, and communicate with purpose.</span></span></p>\n\n<div>&nbsp\;</div>\n
LOCATION:Chamber Boardroom
UID:e.280.27264
SEQUENCE:3
DTSTAMP:20260422T154153Z
URL:https://business.greatersummerville.org/events/details/wednesday-workshop-public-speaking-27264
END:VEVENT

END:VCALENDAR
