BEGIN:VCALENDAR
VERSION:2.0
PRODID:-//ChamberMaster//Event Calendar 2.0//EN
METHOD:PUBLISH
X-PUBLISHED-TTL:P3D
REFRESH-INTERVAL:P3D
CALSCALE:GREGORIAN
BEGIN:VEVENT
DTSTART:20221130T130000Z
DTEND:20221130T150000Z
X-MICROSOFT-CDO-ALLDAYEVENT:FALSE
SUMMARY:Wednesday Workshop - Basics of videography from your phone
DESCRIPTION:This six-week series will feature a variety of topics: \n\n	How to best utilize social media and the latest changes on the top networks\n	How to interact with the traditional media to secure your own coverage\n	How to create meaningful videos from your phone\n	How to ramp up your SEO and website content\n	How to build a strong workplace culture\n	Utilizing email to market your business or organization\n\n\n\nBasics of videography from your phone (November 30)\n\n-This class will dive into how to produce simple but impactful videos from a cell phone. \n\n-The class will dissect popular video techniques and learn how to recreate them within minutes.\n\n-Participants will need a smartphone and access to their social media accounts.\n\n-Participants will also learn how to use video to better tell their stories and support their public relations efforts.
X-ALT-DESC;FMTTYPE=text/html:<span style="color:black\;"><span style="font-family:arial\,sans-serif\;"><span style="font-size:11.5pt\;">This six-week series will feature a variety of topics:&nbsp\;</span></span></span>\n<ul>\n	<li style="color:black\;margin-top:11.0pt\;background:white\;vertical-align:baseline\;"><span style="font-family:arial\,sans-serif\;">How to best utilize social media and the latest changes on the top networks</span></li>\n	<li style="color:black\;background:white\;vertical-align:baseline\;"><span style="font-family:arial\,sans-serif\;">How to interact with the traditional media to secure your own coverage</span></li>\n	<li style="color:black\;background:white\;vertical-align:baseline\;"><span style="font-family:arial\,sans-serif\;">How to create meaningful videos from your phone</span></li>\n	<li style="color:black\;background:white\;vertical-align:baseline\;"><span style="font-family:arial\,sans-serif\;">How to ramp up your SEO and website content</span></li>\n	<li style="color:black\;background:white\;vertical-align:baseline\;"><span style="font-family:arial\,sans-serif\;">How to build a strong workplace culture</span></li>\n	<li style="color:#201F1E\;background:white\;vertical-align:baseline\;"><span style="color:black\;"><span style="font-family:arial\,sans-serif\;">Utilizing email to market your business or organization</span></span></li>\n</ul>\n\n<div style="color:#201F1E\;background:white\;vertical-align:baseline\;">\n<p style="margin:0in\;background:white"><b><span style="font-size:11.5pt\;\nfont-family:&quot\;Arial&quot\;\,sans-serif\;color:black">Basics of videography from your phone (November 30)</span></b><o:p></o:p></p>\n\n<p style="margin:0in\;background:white"><span style="font-size:11.5pt\;\nfont-family:&quot\;Arial&quot\;\,sans-serif\;color:black">-This class will dive into how to produce simple but impactful videos from a cell phone.&nbsp\;</span><o:p></o:p></p>\n\n<p style="margin:0in\;background:white"><span style="font-size:11.5pt\;\nfont-family:&quot\;Arial&quot\;\,sans-serif\;color:black">-The class will dissect popular video techniques and learn how to recreate them within minutes.</span><o:p></o:p></p>\n\n<p style="margin:0in\;background:white"><span style="font-size:11.5pt\;\nfont-family:&quot\;Arial&quot\;\,sans-serif\;color:black">-Participants will need a smartphone and access to their social media accounts.</span><o:p></o:p></p>\n\n<p style="margin:0in\;background:white"><span style="font-size:11.5pt\;\nfont-family:&quot\;Arial&quot\;\,sans-serif\;color:black">-Participants will also learn how to use video to better tell their stories and support their public relations efforts.&nbsp\;</span><o:p></o:p></p>\n</div>\n
LOCATION:Chamber Board Room 402 North Main Street Summerville\, SC 29483
UID:e.280.25520
SEQUENCE:3
DTSTAMP:20260424T232632Z
URL:https://business.greatersummerville.org/events/details/wednesday-workshop-basics-of-videography-from-your-phone-25520
END:VEVENT

END:VCALENDAR
