BEGIN:VCALENDAR
VERSION:2.0
PRODID:-//ChamberMaster//Event Calendar 2.0//EN
METHOD:PUBLISH
X-PUBLISHED-TTL:P3D
REFRESH-INTERVAL:P3D
CALSCALE:GREGORIAN
BEGIN:VEVENT
DTSTART;VALUE=DATE:20260915
DTEND;VALUE=DATE:20260924
TRANSP:TRANSPARENT
X-MICROSOFT-CDO-ALLDAYEVENT:TRUE
SUMMARY:Treasures of Ireland Chamber Trip
DESCRIPTION:Greater Summerville/Dorchester County Chamber Trip to Ireland- Explore Dublin\, Galway\, Killarney\, Blarney Castle\, the Ring of Kerry\, and much more. \n\nThe price is $4\,749 per person and will include:\n\n	Roundtrip International Airfare and Taxes\n	7 Nights First Class Hotel Accommodations\n	12 Meals: 7-Breakfasts & 5-Dinners\n	Professional Tour Director & Hotel Transfers\n	Admissions & Sightseeing per Itinerary \n\nHighlights:\n\n\n	2 Nights in Dublin\n	2 Nights in Limerick or County Clare\n	2 Nights in Killarney\n	1 Night in a Castle Hotel\n	Dublin City Tour\n	Guinness Storehouse & Tasting\n	Cliffs of Moher\n	Whiskey Distillery\n	Irish Entertainment & Dinner in Killarney\n	Bunratty Castle Medieval Banquet \n\nPlan now to join the Greater Summerville/Dorchester County Chamber group to Ireland!
X-ALT-DESC;FMTTYPE=text/html:Greater Summerville/Dorchester County Chamber Trip to Ireland- Explore Dublin\, Galway\, Killarney\, Blarney Castle\, the Ring of Kerry\, and much more.&nbsp\;<br />\nThe price is $4\,749 per person and will include:\n<ul>\n	<li>Roundtrip International Airfare and Taxes</li>\n	<li>7 Nights First Class Hotel Accommodations</li>\n	<li>12 Meals: 7-Breakfasts &amp\; 5-Dinners</li>\n	<li>Professional Tour Director &amp\; Hotel Transfers</li>\n	<li>Admissions &amp\; Sightseeing per Itinerary&nbsp\;</li>\n</ul>\nHighlights:\n\n<ul>\n	<li>2 Nights in Dublin</li>\n	<li>2 Nights in Limerick or County Clare</li>\n	<li>2 Nights in Killarney</li>\n	<li>1 Night in a Castle Hotel</li>\n	<li>Dublin City Tour</li>\n	<li>Guinness Storehouse &amp\; Tasting</li>\n	<li>Cliffs of Moher</li>\n	<li>Whiskey Distillery</li>\n	<li>Irish Entertainment &amp\; Dinner in Killarney</li>\n	<li>Bunratty Castle Medieval Banquet&nbsp\;</li>\n</ul>\nPlan now to join the Greater Summerville/Dorchester County Chamber group to Ireland!&nbsp\;
LOCATION:For more details and questions reach out to reservations@chamberexplorations.com or call (877) 807-2249
UID:e.280.27134
SEQUENCE:3
DTSTAMP:20260421T200817Z
URL:https://business.greatersummerville.org/events/details/treasures-of-ireland-chamber-trip-27134
END:VEVENT

END:VCALENDAR
