BEGIN:VCALENDAR
VERSION:2.0
PRODID:-//ChamberMaster//Event Calendar 2.0//EN
METHOD:PUBLISH
X-PUBLISHED-TTL:P3D
REFRESH-INTERVAL:P3D
CALSCALE:GREGORIAN
BEGIN:VEVENT
DTSTART:20250228T153000Z
DTEND:20250228T170000Z
X-MICROSOFT-CDO-ALLDAYEVENT:FALSE
SUMMARY:Ribbon Cutting - HomeTown Furniture Summerville
DESCRIPTION:Join us for the grand opening of HomeTown Furniture in Summerville! Offering high quality products at an affordable price\, HomeTown Furniture is known for its diverse range of stylish\, durable\, and affordable home furniture\, catering to a variety of tastes and budgets.
X-ALT-DESC;FMTTYPE=text/html:Join us for the grand opening of HomeTown Furniture in Summerville! Offering high quality products at an affordable price\, HomeTown Furniture is known for its diverse range of stylish\, durable\, and affordable home furniture\, catering to a variety of tastes and budgets.&nbsp\;
LOCATION:HomeTown Furniture Summerville 1422 Boone Hill Road Summerville\, SC 29483
UID:e.280.26913
SEQUENCE:3
DTSTAMP:20260422T115635Z
URL:https://business.greatersummerville.org/events/details/ribbon-cutting-hometown-furniture-summerville-26913
END:VEVENT

END:VCALENDAR
