BEGIN:VCALENDAR
VERSION:2.0
PRODID:-//ChamberMaster//Event Calendar 2.0//EN
METHOD:PUBLISH
X-PUBLISHED-TTL:P3D
REFRESH-INTERVAL:P3D
CALSCALE:GREGORIAN
BEGIN:VEVENT
DTSTART:20250204T150000Z
DTEND:20250204T160000Z
X-MICROSOFT-CDO-ALLDAYEVENT:FALSE
SUMMARY:Ribbon Cutting- Biscuit Belly
DESCRIPTION:Join us for the ribbon cutting of  Biscuit Belly in Summerville- a fast-casual breakfast spot focused on large biscuit sandwiches. Serving breakfast and brunch 7 days a week- their menu features a hearty selection of scratch-made biscuits.
X-ALT-DESC;FMTTYPE=text/html:Join us for the ribbon cutting of&nbsp\; Biscuit Belly in Summerville- a fast-casual breakfast spot focused on large biscuit sandwiches. Serving breakfast and brunch 7 days a week- their menu features a hearty selection of scratch-made biscuits.&nbsp\;
LOCATION:118 W. Richardson Ave. Suite 100 Summerville\, SC 29483
UID:e.280.26859
SEQUENCE:3
DTSTAMP:20260422T115319Z
URL:https://business.greatersummerville.org/events/details/ribbon-cutting-biscuit-belly-26859
END:VEVENT

END:VCALENDAR
