BEGIN:VCALENDAR
VERSION:2.0
PRODID:-//ChamberMaster//Event Calendar 2.0//EN
METHOD:PUBLISH
X-PUBLISHED-TTL:P3D
REFRESH-INTERVAL:P3D
CALSCALE:GREGORIAN
BEGIN:VEVENT
DTSTART:20230316T130000Z
DTEND:20230316T140000Z
X-MICROSOFT-CDO-ALLDAYEVENT:FALSE
SUMMARY:Nonprofit Council Meeting
DESCRIPTION:Please join us for our monthly council meeting. We will hear from Beth Messervy with the Town of Summerville on the Accommodations Tax and also Cassie Ford\, Tourism Director. We will learn where the money comes from\, what it can go towards and how to apply for the funds.
X-ALT-DESC;FMTTYPE=text/html:Please join us for our monthly council meeting. We will hear from Beth Messervy with the Town of Summerville on the Accommodations Tax and also Cassie Ford\, Tourism Director.&nbsp\;We will learn where the money comes from\, what it can go towards and how to apply for the funds.&nbsp\;
LOCATION:Chamber Boardroom
UID:e.280.25702
SEQUENCE:3
DTSTAMP:20260422T103426Z
URL:https://business.greatersummerville.org/events/details/nonprofit-council-meeting-03-16-2023-25702
END:VEVENT

END:VCALENDAR
