BEGIN:VCALENDAR
VERSION:2.0
PRODID:-//ChamberMaster//Event Calendar 2.0//EN
METHOD:PUBLISH
X-PUBLISHED-TTL:P3D
REFRESH-INTERVAL:P3D
CALSCALE:GREGORIAN
BEGIN:VEVENT
DTSTART:20230119T140000Z
DTEND:20230119T150000Z
X-MICROSOFT-CDO-ALLDAYEVENT:FALSE
SUMMARY:Nonprofit Council
DESCRIPTION:Local nonprofit Chamber members meet in this monthly forum to discuss relevant issues and hear from experts on topics surrounding the nonprofit community. This month\, we will hear from local experts on self-care. We will hear how to recognize burn-outs and some ways to obtain a healthy home-work life balance.
X-ALT-DESC;FMTTYPE=text/html:Local nonprofit Chamber members meet in this monthly forum to discuss relevant issues and hear from experts on topics surrounding the nonprofit community. This month\, we will hear from local experts on self-care. We will hear how to recognize burn-outs and some ways to obtain a healthy home-work life balance.&nbsp\;
LOCATION:Chamber Boardroom 402 N Main St Summerville\, SC 29483
UID:e.280.25700
SEQUENCE:3
DTSTAMP:20260420T100026Z
URL:https://business.greatersummerville.org/events/details/nonprofit-council-25700
END:VEVENT

END:VCALENDAR
