BEGIN:VCALENDAR
VERSION:2.0
PRODID:-//ChamberMaster//Event Calendar 2.0//EN
METHOD:PUBLISH
X-PUBLISHED-TTL:P3D
REFRESH-INTERVAL:P3D
CALSCALE:GREGORIAN
BEGIN:VEVENT
DTSTART;VALUE=DATE:20250307
DTEND;VALUE=DATE:20250308
TRANSP:TRANSPARENT
X-MICROSOFT-CDO-ALLDAYEVENT:TRUE
SUMMARY:28th Golf Tournament presented by Hoover Chrysler Dodge Jeep Ram Summerville
DESCRIPTION:28th Annual Golf Tournament
X-ALT-DESC;FMTTYPE=text/html:28th Annual Golf Tournament
LOCATION:Summerville Country Club 400 Country Club Boulevard Summerville\, SC 29483
UID:e.280.26483
SEQUENCE:3
DTSTAMP:20260423T010617Z
URL:https://business.greatersummerville.org/events/details/28th-golf-tournament-presented-by-hoover-chrysler-dodge-jeep-ram-summerville-26483
END:VEVENT

END:VCALENDAR
