BEGIN:VCALENDAR
VERSION:2.0
PRODID:-//ChamberMaster//Event Calendar 2.0//EN
METHOD:PUBLISH
X-PUBLISHED-TTL:P3D
REFRESH-INTERVAL:P3D
CALSCALE:GREGORIAN
BEGIN:VEVENT
DTSTART:20230303T170000Z
DTEND:20230303T220000Z
X-MICROSOFT-CDO-ALLDAYEVENT:FALSE
SUMMARY:26th Annual Golf Tournament
DESCRIPTION:Register your team for this Captain's Choice golf tournament. The day includes 18 holes of golf\, lunch\, hole games\, door prizes\, raffles and more!
X-ALT-DESC;FMTTYPE=text/html:Register your team for this Captain&#39\;s Choice golf tournament. The day includes 18 holes of golf\, lunch\, hole games\, door prizes\, raffles and more!&nbsp\;
LOCATION:Summerville Country Club 400 Country Club Blvd. Summerville\, SC 29483
UID:e.280.25566
SEQUENCE:3
DTSTAMP:20260422T102232Z
URL:https://business.greatersummerville.org/events/details/26th-annual-golf-tournament-25566
END:VEVENT

END:VCALENDAR
