BEGIN:VCALENDAR
VERSION:2.0
PRODID:-//ChamberMaster//Event Calendar 2.0//EN
METHOD:PUBLISH
X-PUBLISHED-TTL:P3D
REFRESH-INTERVAL:P3D
CALSCALE:GREGORIAN
BEGIN:VEVENT
DTSTART:20260501T140000Z
DTEND:20260501T150000Z
X-MICROSOFT-CDO-ALLDAYEVENT:FALSE
SUMMARY:Ribbon Cutting - All J's Catering
DESCRIPTION:Join us for the ribbon-cutting Sherwin Williams in Nexton\, where you can find all the colors for your world.\n\n\n\nSherwin-Williams Company is a global leader in paint and coatings\, driven by over 64\,000 employees focused on innovation and customer solutions. Its products are sold through 5\,000+ company-operated stores and major retailers across the Americas and internationally. The company also provides specialized coatings for industries like construction and transportation in more than 130 countries.
X-ALT-DESC;FMTTYPE=text/html:<span style="font-family:arial\;"><span style="font-size:12px\;">Join us for the ribbon-cutting Sherwin Williams in Nexton\, where you can find all the colors for your world.</span></span><br />\n<br />\nSherwin-Williams Company is a global leader in paint and coatings\, driven by over 64\,000 employees focused on innovation and customer solutions. Its products are sold through 5\,000+ company-operated stores and major retailers across the Americas and internationally. The company also provides specialized coatings for industries like construction and transportation in more than 130 countries.
LOCATION:143 First Citizens Way Summerville SC
UID:e.280.27343
SEQUENCE:3
DTSTAMP:20260421T125834Z
URL:http://business.greatersummerville.org/events/details/ribbon-cutting-all-j-s-catering-27343
END:VEVENT

END:VCALENDAR
